BEGIN:VCALENDAR
VERSION:2.0
PRODID:-//Tukios.com/
BEGIN:VEVENT
UID:18e50f19-0c87-4b26-9fa4-d223e1726d08@www.brintlingerandearl.com
DTSTAMP:20260424T195922Z
DTSTART:20260509T150000Z
DTEND:20260509T160000Z
SUMMARY:Funeral Service
DESCRIPTION:
URL:https://www.brintlingerandearl.com/obituaries/erik-brechnitz-2026
LOCATION:St John's Episcopal Church 130 West Eldorado Street  Decatur IL 
	62522
GEO:39.846249;-88.9570382
END:VEVENT
END:VCALENDAR