BEGIN:VCALENDAR
VERSION:2.0
PRODID:-//Tukios.com/
BEGIN:VEVENT
UID:8149c50d-601b-4040-94b1-6d699c07bc1d@www.brintlingerandearl.com
DTSTAMP:20260424T000551Z
DTSTART:20260427T150000Z
DTEND:20260427T160000Z
SUMMARY:Visitation
DESCRIPTION:
URL:https://www.brintlingerandearl.com/obituaries/cecil-aldridge
LOCATION:Brintlinger and Earl Funeral Home - Decatur 2827 North Oakland 
	Avenue  Decatur IL 62526
GEO:39.8734088;-88.9734609
END:VEVENT
END:VCALENDAR