BEGIN:VCALENDAR
VERSION:2.0
PRODID:-//Tukios.com/
BEGIN:VEVENT
UID:896339a7-447a-432a-893d-9771eeb75782@www.brintlingerandearl.com
DTSTAMP:20260423T235705Z
DTSTART:20260427T160000Z
DTEND:20260427T170000Z
SUMMARY:Funeral Service
DESCRIPTION:
URL:https://www.brintlingerandearl.com/obituaries/cecil-aldridge
LOCATION:Brintlinger and Earl Funeral Home - Decatur 2827 North Oakland 
	Avenue  Decatur IL 62526
GEO:39.8734088;-88.9734609
END:VEVENT
END:VCALENDAR